BEGIN:VCALENDAR
PRODID:-//kirchenweb.ch gmbh//veranstaltungsausgabe v2.0//DE
VERSION:2.0
METHOD:PUBLISH
BEGIN:VEVENT
DTSTART:20260809T083000Z
DTEND:20260809T093000Z
LOCATION:Alp Neuenstift Diemtigtal\, \,
TRANSP:OPAQUE
SEQUENCE:0
UID:36413-veranstaltung@kirchgemeinde.ch
DTSTAMP:20260303T103058Z
DESCRIPTION:Bergpredigt auf Neuenstift mit dem Musikverein
  Erlenbach-Diemtigtal\n\nAnschliessend Apéro\n\nBei Schlechtwetter in der
  Kirche Diemtigen\n\nKontakt: Pfrn. Melanie Kummer\n\nWeitere Infos:
  https://www.kirchgemeinde.ch/veranstaltung/36413
SUMMARY:Berggottesdienst Alp Neuenstift
PRIORITY:5
X-MICROSOFT-CDO-IMPORTANCE:1
CLASS:PUBLIC
END:VEVENT
END:VCALENDAR
