BEGIN:VCALENDAR
PRODID:-//kirchenweb.ch gmbh//veranstaltungsausgabe v2.0//DE
VERSION:2.0
METHOD:PUBLISH
BEGIN:VEVENT
DTSTART:20260712T080000Z
DTEND:20260712T090000Z
LOCATION:Kirche Diemtigen\, \,
TRANSP:OPAQUE
SEQUENCE:0
UID:36227-veranstaltung@kirchgemeinde.ch
DTSTAMP:20251218T142357Z
DESCRIPTION:Hören Sie https://www.kirchgemeinde.ch/kg/diemtigen/audios
  den Gottesdienst mit Pfr. Claude Belz.\n\n\n\nKontakt: Pfr. Claude Belz\n
 \nWeitere Infos: https://www.kirchgemeinde.ch/veranstaltung/36227
SUMMARY:Audio-Gottesdienst
PRIORITY:5
X-MICROSOFT-CDO-IMPORTANCE:1
CLASS:PUBLIC
END:VEVENT
END:VCALENDAR
