BEGIN:VCALENDAR
PRODID:-//kirchenweb.ch gmbh//veranstaltungsausgabe v2.0//DE
VERSION:2.0
METHOD:PUBLISH
BEGIN:VEVENT
DTSTART:20260614T080000Z
DTEND:20260614T090000Z
LOCATION:Kirche Diemtigen\, \,
TRANSP:OPAQUE
SEQUENCE:0
UID:36224-veranstaltung@kirchgemeinde.ch
DTSTAMP:20260113T151416Z
DESCRIPTION:Mila Artemieva\, Orgel\n\nAnschliessend Kirchenkaffee\n
 \nKontakt: Pfr. Claude Belz\n\nWeitere Infos:
  https://www.kirchgemeinde.ch/veranstaltung/36224
SUMMARY:Gottesdienst in der Kirche Diemtigen
PRIORITY:5
X-MICROSOFT-CDO-IMPORTANCE:1
CLASS:PUBLIC
END:VEVENT
END:VCALENDAR
