BEGIN:VCALENDAR
PRODID:-//kirchenweb.ch gmbh//veranstaltungsausgabe v2.0//DE
VERSION:2.0
METHOD:PUBLISH
BEGIN:VEVENT
DTSTART:20260607T083000Z
DTEND:20260607T093000Z
LOCATION:Blauseeli\, Schwenden\, \,
TRANSP:OPAQUE
SEQUENCE:0
UID:36223-veranstaltung@kirchgemeinde.ch
DTSTAMP:20251218T140832Z
DESCRIPTION:Bergpredigt am Blauseeli in Schwenden mit den Panladies.\n
 \nAnschliessend Apéro.\n\nKontakt: Pfrn. Melanie Kummer\n\nWeitere Infos:
  https://www.kirchgemeinde.ch/veranstaltung/36223
SUMMARY:Gottesdienst am Blauseeli
PRIORITY:5
X-MICROSOFT-CDO-IMPORTANCE:1
CLASS:PUBLIC
END:VEVENT
END:VCALENDAR
