BEGIN:VCALENDAR
PRODID:-//kirchenweb.ch gmbh//veranstaltungsausgabe v2.0//DE
VERSION:2.0
METHOD:PUBLISH
BEGIN:VEVENT
DTSTART:20260531T073000Z
DTEND:20260531T083000Z
LOCATION:Kirche Diemtigen\, \,
TRANSP:OPAQUE
SEQUENCE:0
UID:36222-veranstaltung@kirchgemeinde.ch
DTSTAMP:20251218T140156Z
DESCRIPTION:Konfirmationsfeier 9.30 Uhr / 11.00 Uhr\nMila Artemieva\,
  Orgel\n\nKontakt: Pfrn. Melanie Kummer\n\nWeitere Infos:
  https://www.kirchgemeinde.ch/veranstaltung/36222
SUMMARY:Gottesdienst in der Kirche Diemtigen
PRIORITY:5
X-MICROSOFT-CDO-IMPORTANCE:1
CLASS:PUBLIC
END:VEVENT
END:VCALENDAR
