BEGIN:VCALENDAR
PRODID:-//kirchenweb.ch gmbh//veranstaltungsausgabe v2.0//DE
VERSION:2.0
METHOD:PUBLISH
BEGIN:VEVENT
DTSTART:20260524T080000Z
DTEND:20260524T090000Z
LOCATION:Schulhaus Zwischenflüh\, \,
TRANSP:OPAQUE
SEQUENCE:0
UID:36221-veranstaltung@kirchgemeinde.ch
DTSTAMP:20251218T135559Z
DESCRIPTION:Pfingstgottesdienst\n\nAnneliese Weibel\, Orgel\n\nKontakt:
  Pfr. Daniel Guggisberg\n\nWeitere Infos:
  https://www.kirchgemeinde.ch/veranstaltung/36221
SUMMARY:Gottesdienst im Schulhaus Zwischenflüh
PRIORITY:5
X-MICROSOFT-CDO-IMPORTANCE:1
CLASS:PUBLIC
END:VEVENT
END:VCALENDAR
