BEGIN:VCALENDAR
PRODID:-//kirchenweb.ch gmbh//veranstaltungsausgabe v2.0//DE
VERSION:2.0
METHOD:PUBLISH
BEGIN:VEVENT
DTSTART:20260517T080000Z
DTEND:20260517T090000Z
LOCATION:Schulhaus Oey\, \,
TRANSP:OPAQUE
SEQUENCE:0
UID:36220-veranstaltung@kirchgemeinde.ch
DTSTAMP:20251218T135329Z
DESCRIPTION:Mila Artemieva\, Orgel\n\nKontakt: Pfr. Daniel Guggisberg\n
 \nWeitere Infos: https://www.kirchgemeinde.ch/veranstaltung/36220
SUMMARY:Gottesdienst im Schulhaus Oey
PRIORITY:5
X-MICROSOFT-CDO-IMPORTANCE:1
CLASS:PUBLIC
END:VEVENT
END:VCALENDAR
