BEGIN:VCALENDAR
PRODID:-//kirchenweb.ch gmbh//veranstaltungsausgabe v2.0//DE
VERSION:2.0
METHOD:PUBLISH
BEGIN:VEVENT
DTSTART:20260510T080000Z
DTEND:20260510T090000Z
LOCATION:Kapelle Schwenden\, \,
TRANSP:OPAQUE
SEQUENCE:0
UID:36219-veranstaltung@kirchgemeinde.ch
DTSTAMP:20251218T134924Z
DESCRIPTION:Gottesdienst am Muttertag\nAnneliese Weibel\, Orgel\n
 \nKontakt: Pfrn. Melanie Kummer\n\nWeitere Infos:
  https://www.kirchgemeinde.ch/veranstaltung/36219
SUMMARY:Gottesdienst in der Kapelle Schwenden
PRIORITY:5
X-MICROSOFT-CDO-IMPORTANCE:1
CLASS:PUBLIC
END:VEVENT
END:VCALENDAR
