BEGIN:VCALENDAR
PRODID:-//kirchenweb.ch gmbh//veranstaltungsausgabe v2.0//DE
VERSION:2.0
METHOD:PUBLISH
BEGIN:VEVENT
DTSTART:20260426T080000Z
DTEND:20260426T090000Z
LOCATION:Kirche Diemtigen\, \,
TRANSP:OPAQUE
SEQUENCE:0
UID:36217-veranstaltung@kirchgemeinde.ch
DTSTAMP:20260416T141434Z
DESCRIPTION:Konfirmationsfeier\nAnneliese Weibel\, Orgel\n\nKontakt: Pfrn.
  Melanie Kummer\n\nWeitere Infos:
  https://www.kirchgemeinde.ch/veranstaltung/36217
SUMMARY:Gottesdienst in der Kirche Diemtigen
PRIORITY:5
X-MICROSOFT-CDO-IMPORTANCE:1
CLASS:PUBLIC
END:VEVENT
END:VCALENDAR
