BEGIN:VCALENDAR
PRODID:-//kirchenweb.ch gmbh//veranstaltungsausgabe v2.0//DE
VERSION:2.0
METHOD:PUBLISH
BEGIN:VEVENT
DTSTART:20260513T114500Z
DTEND:20260513T124500Z
LOCATION:Ofenhaus Diemtigen\, \,
TRANSP:OPAQUE
SEQUENCE:0
UID:35501-veranstaltung@kirchgemeinde.ch
DTSTAMP:20250814T105915Z
DESCRIPTION:Fertigen Brot- oder Züpfenteig mitbringen. Ab 13:45 Uhr
  werden die Brote «eingeschossen».\nUnkostenbeitrag: Fr. 2.-/kg Mehl
  für Holz usw.\n\nDer Platz ist beschränkt\, bei vielen Anmeldungen
  findet am selben Tag ein zweiter Backgang statt. Die Brotbäckerinnen und
  Brotbäcker werden in diesem Fall vorgängig kontaktiert.\n\n\nKontakt:
  kg.diemtigen@kirchgemeinde.ch\n\nWeitere Infos:
  https://www.kirchgemeinde.ch/veranstaltung/35501
SUMMARY:Backen im Ofenhaus
PRIORITY:5
X-MICROSOFT-CDO-IMPORTANCE:1
CLASS:PUBLIC
END:VEVENT
END:VCALENDAR
